BEGIN:VCALENDAR
VERSION:2.0
PRODID:-//Alte Post Garni - ECPv6.4.0//NONSGML v1.0//EN
CALSCALE:GREGORIAN
METHOD:PUBLISH
X-WR-CALNAME:Alte Post Garni
X-ORIGINAL-URL:https://www.alte-post-garni.de
X-WR-CALDESC:Veranstaltungen für Alte Post Garni
REFRESH-INTERVAL;VALUE=DURATION:PT1H
X-Robots-Tag:noindex
X-PUBLISHED-TTL:PT1H
BEGIN:VTIMEZONE
TZID:Europe/Berlin
BEGIN:DAYLIGHT
TZOFFSETFROM:+0100
TZOFFSETTO:+0200
TZNAME:CEST
DTSTART:20260329T010000
END:DAYLIGHT
BEGIN:STANDARD
TZOFFSETFROM:+0200
TZOFFSETTO:+0100
TZNAME:CET
DTSTART:20261025T010000
END:STANDARD
END:VTIMEZONE
BEGIN:VEVENT
DTSTART;VALUE=DATE:20260206
DTEND;VALUE=DATE:20260211
DTSTAMP:20260425T142157
CREATED:20251229T101427Z
LAST-MODIFIED:20251229T101427Z
UID:1950-1770336000-1770767999@www.alte-post-garni.de
SUMMARY:Ambiente
DESCRIPTION:
URL:https://www.alte-post-garni.de/event/ambiente-3/
LOCATION:Frankfurt am Main\, Messegelände\, Hessen\, Deutschland
END:VEVENT
END:VCALENDAR