BEGIN:VCALENDAR
VERSION:2.0
PRODID:-//Alte Post Garni - ECPv6.4.0//NONSGML v1.0//EN
CALSCALE:GREGORIAN
METHOD:PUBLISH
X-WR-CALNAME:Alte Post Garni
X-ORIGINAL-URL:https://www.alte-post-garni.de
X-WR-CALDESC:Veranstaltungen für Alte Post Garni
REFRESH-INTERVAL;VALUE=DURATION:PT1H
X-Robots-Tag:noindex
X-PUBLISHED-TTL:PT1H
BEGIN:VTIMEZONE
TZID:Europe/Berlin
BEGIN:DAYLIGHT
TZOFFSETFROM:+0100
TZOFFSETTO:+0200
TZNAME:CEST
DTSTART:20260329T010000
END:DAYLIGHT
BEGIN:STANDARD
TZOFFSETFROM:+0200
TZOFFSETTO:+0100
TZNAME:CET
DTSTART:20261025T010000
END:STANDARD
END:VTIMEZONE
BEGIN:VEVENT
DTSTART;VALUE=DATE:20260324
DTEND;VALUE=DATE:20260328
DTSTAMP:20260423T154539
CREATED:20260301T072911Z
LAST-MODIFIED:20260301T072911Z
UID:2022-1774310400-1774655999@www.alte-post-garni.de
SUMMARY:Prolight + sound
DESCRIPTION:
URL:https://www.alte-post-garni.de/event/prolight-sound-3/
LOCATION:Frankfurt am Main\, Messegelände\, Hessen\, Deutschland
END:VEVENT
END:VCALENDAR